BEGIN:VCALENDAR
VERSION:2.0
PRODID:-//soy rosendale - ECPv6.3.0//NONSGML v1.0//EN
CALSCALE:GREGORIAN
METHOD:PUBLISH
X-WR-CALNAME:soy rosendale
X-ORIGINAL-URL:https://soyrosendale.com
X-WR-CALDESC:Events for soy rosendale
REFRESH-INTERVAL;VALUE=DURATION:PT1H
X-Robots-Tag:noindex
X-PUBLISHED-TTL:PT1H
BEGIN:VTIMEZONE
TZID:America/New_York
BEGIN:DAYLIGHT
TZOFFSETFROM:-0500
TZOFFSETTO:-0400
TZNAME:EDT
DTSTART:20240310T070000
END:DAYLIGHT
BEGIN:STANDARD
TZOFFSETFROM:-0400
TZOFFSETTO:-0500
TZNAME:EST
DTSTART:20241103T060000
END:STANDARD
END:VTIMEZONE
BEGIN:VEVENT
DTSTART;TZID=America/New_York:20240704T190000
DTEND;TZID=America/New_York:20240704T234500
DTSTAMP:20260419T101607
CREATED:20240628T170748Z
LAST-MODIFIED:20240628T170748Z
UID:751-1720119600-1720136700@soyrosendale.com
SUMMARY:Club Draw Session #25
DESCRIPTION:It’s the Fourth of July and time to come out and draw and hang! \nGreat music\, great company and of course delicious food. \nLive electronic music by Dreiky Caprice\, Headfullofhammers\, Richard Traviss\, Deep Profound and Everlasting Peace- will take you here\, there\, and everywhere.
URL:https://soyrosendale.com/event/club-draw-session-25/
LOCATION:SOY\, 419 Main St\, Rosendale\, NY\, 12472\, United States
CATEGORIES:Fun,Music
END:VEVENT
END:VCALENDAR